{"text_format":"1","workbook":"xlsx","n_sheets":10,"sheets":["توافق نامه","شخصي","آدرس","تحصيلات","درخواست","سوابق كاري","راننده","معرف","بررسي نهايي","Sheet1"],"not_rendered":{"charts":0,"images":5,"macros":1,"external_links":0,"defined_names":32,"comments":5,"pivot_tables":0},"unopened":[],"bounds":{"document_bytes":16777216,"sheet_cells":100000,"rows_first":2000,"rows_last":500,"rows_between":2000,"halvings":0,"cell_chars":16384,"cell_head_chars":4096},"cells_cut":0,"cells_raw":0,"read":"whole","date_system":"1900"}

{"sheet":"توافق نامه","index":0,"n_rows":39,"n_cols":3,"rows_kept":39,"cut":false,"hidden":false,"merged":[[7,2,8,13],[9,2,10,13],[12,2,14,13],[7,1,10,1],[26,2,27,13],[28,2,28,13],[26,1,28,1],[30,2,32,13],[15,2,16,13],[12,1,16,1],[18,2,21,13],[22,2,24,13],[18,1,24,1],[33,2,34,13],[30,1,34,1],[36,2,37,13],[38,2,39,13],[36,1,39,1]]}
[]
[]
[]
[]
[]
[]
[]
[null,-1,"این جانب در صحت عقل و سلامت روان صحت کلیه اطلاعات تکمیل و ارسال شده را تایید نموده و مسئولیت صحت و سقم اطلاعات را به عهده می‌گیرم و از بابت افشای این اطلاعات از مدیران و کارکنان شرکت پالایشگاه سبلان هرگونه ادعائی را از خود سلب می‌نمایم."]
[]
[null,null,"The company and other persons or employers are released from all liability brought forth by any investigation resulting from my submission of this electronic application and the data contained here in."]
[]
[]
[null,-2,"این جانب مسئولیت کلیه اطلاعات ارائه شده در این فرم را به عهده می‌گیرم و در صورت اثبات خلاف اظهارات ارائه شده یا ضد و نقیض و یا برداشت اشتباه از اطلاعات ارائه شده منجر به رد درخواست استخدام اينجانب خواهد شد و در صورتی که بعد از استخدام خلاف اظهارات روشن شود مدیران شرکت پالایشگاه سبلان حق اخراج و انفصال از خدمت را خواهند داشت و این جانب هرگونه ادعا و اعتراضی را از خود سلب می‌نمایم."]
[]
[]
[null,null,"The information in this application is true and complete to the best of my knowledge. Any falsification, misrepresentation, or omission on this application can be cause for denial or termination of employment"]
[]
[]
[null,-3,"درصورت فراخوان شرکت پالایشگاه انرژی‌های نوین سبلان استخدام این جانب داوطلبانه می‌باشد و این بدین معنی است که هر یک از طرفین در هر زمانی برای هر دلیلی داوطلبانه پیش قدم شده‌اند و اجباری نبوده است و در زمان قبول استخدام از سوی این جانب در صورتی که موقعیت شغلی پیشنهاد شود این جانب قبول و تایید می‌نمایم که مطیع کلیه آئین نامه‌ها و قوانین و مقررات آینده شرکتی که در آن استخدام می‌شوم باشم و برای شرکت پالایشگاه انرژی‌های نوین سبلان این حق را محفوظ می‌دانم که در توافق نامه‌ها کار فی مابین هرگونه تغییری اعمال نماید و این جانب ضمن رد هرگونه ادعائی از این بابت در آینده حق اعتراض نخواهم داشت. "]
[]
[]
[]
[null,null,"If hired, my employment is voluntary, meaning that either party can employment at any time for any reason. Upon acceptance of employment if a position is offered, I agree to abide by all existing and future company rules and regulations. The company reserves the right to change any working agreement as deemed necessary"]
[]
[]
[]
[null,-4,"این جانب اعتراف و اقرار می‌کنم و واقف به این امر هستم که هرگونه فرصت استخدامی یک امر احتمالی و ممکن الوقوع می‌باشد و داشتن شرایط و صلاحیت استخدام به معنی اجبار شرکت پالایشگاه سبلان برای استخدام نمی‌باشد. "]
[]
[null,null,"Any employment offer is contingent open my providing proof of identity and eligibility to work the country of employ"]
[]
[null,-5,"بدین وسیله این جانب با مشخصات فوق ضمن امضای این فرم صحت کلیه اطلاعات وارد شده را تایید نموده و مسئولیت عواقب ناشی از آن را به عهده می‌گیرم و اعلام می‌نمایم که هدف از ارسال این فرم درخواست بررسی شرایطم برای استخدام می‌باشد و آگاه به این مسئله هستم که تمامی بخش‌های این فرم و سوالات پرسیده شده در آن به دقت وکامل و بدون عیب و نقص پاسخ داده شده است. "]
[]
[]
[null,null,"I have read and reviewed the information provided in this application and the above statements. By signing this application for employment I certify that I understand all parts of it and have answered all questions completely and fully"]
[]
[]
[null,-6,"بدین وسیله با درج نام خود در بخش امضای این فرم و ارسال فرم به صورت الکترونیکی به شرکت پالایشگاه سبلان محتویات الکترونیکی این فرم قرارداد فی مابین این جانب و شرکت پالایشگاه انرژی‌های نوین سبلان بوده و از تاریخ ارسال این فرم این قرارداد لازم الاجراء می‌باشد. "]
[]
[null,null,"I understand that by typing my name in the signature box below and submitting this application electronically, this becomes a legal and binding contract"]

{"sheet":"شخصي","index":1,"n_rows":13,"n_cols":4,"rows_kept":13,"cut":false,"hidden":true,"merged":[]}
[]
[]
[]
[]
[]
[null,null,null,"نام:"]
[null,null,null,"نام مستعار:"]
[null,null,null,"نام خانوادگي:"]
[null,null,null,"تلفن منزل:"]
[null,null,null,"تلفن محل كار:"]
[null,null,null,"تلفن همراه:"]
[null,null,null,"آدرس ايميل:"]
[null,null,null,"كد ملي:"]

{"sheet":"آدرس","index":2,"n_rows":34,"n_cols":11,"rows_kept":34,"cut":false,"hidden":true,"merged":[[33,5,33,8],[28,2,28,4],[28,5,28,8],[29,1,30,1],[29,2,30,8],[31,2,31,4],[31,5,31,8],[21,2,21,4],[21,5,21,8],[23,5,23,8],[27,2,27,4],[27,5,27,8],[17,2,17,4],[17,5,17,8],[18,2,18,4],[18,5,18,8],[19,1,20,1],[19,2,20,8],[5,5,5,7],[8,2,8,4],[9,2,9,4],[8,5,8,8],[9,5,9,8],[12,5,12,8],[13,5,13,8],[12,2,12,4],[10,2,11,8],[10,1,11,1]]}
[]
[]
[]
[]
[null,null,null,null,null,null,null,null,null,null,1]
[null,null,null,null,null,"تعداد آدرس هاي خود را مشخص كنيد",null,null,null,null,1]
[null,null,null,null,null,null,null,null,null,null,2]
[null,"آدرس 1","محل اقامت فعلي",null,null,null,null,null,null,null,3]
[null,"استان:"]
[null,"شهرستان:"]
[null,"آدرس:"]
[]
[null,"كد پستي:"]
[null,"از تاريخ (ماه/سال):",null,"/"]
[]
[]
[null,"آدرس 2","محل اقامت قبلي"]
[null,"استان:"]
[null,"شهرستان:"]
[null,"آدرس:"]
[]
[null,"كد پستي:"]
[null,"از تاريخ (ماه/سال):",null,"/"]
[null,"تا تاريخ (ماه/سال):",null,"/"]
[]
[]
[null,"آدرس 3","محل اقامت قبلي"]
[null,"استان:"]
[null,"شهرستان:"]
[null,"آدرس:"]
[]
[null,"كد پستي:"]
[null,"از تاريخ (ماه/سال):",null,"/"]
[null,"تا تاريخ (ماه/سال):",null,"/"]

{"sheet":"تحصيلات","index":3,"n_rows":56,"n_cols":12,"rows_kept":56,"cut":false,"hidden":true,"merged":[[5,1,5,6],[10,2,10,8],[15,2,15,4],[15,5,15,8],[8,2,8,4],[8,5,8,8],[9,2,9,4],[9,5,9,8],[16,2,16,4],[16,5,16,8],[17,2,17,8],[23,2,23,4],[23,5,23,8],[25,2,25,8],[18,2,18,8],[26,2,26,8],[27,2,27,8],[32,2,32,4],[32,5,32,8],[24,2,24,4],[24,5,24,8],[50,2,50,4],[50,5,50,8],[33,2,33,4],[33,5,33,8],[34,2,34,8],[35,2,35,8],[36,2,36,8],[41,2,41,4],[41,5,41,8],[42,2,42,4],[42,5,42,8],[43,2,43,8],[44,2,44,8],[45,2,45,8],[51,2,51,4],[51,5,51,8],[52,2,52,8],[53,2,53,8],[54,2,54,8]]}
[]
[]
[]
[]
[null,null,null,null,null,null,null,null,null,null,null,1]
[null,"آخرين مدرك تحصيلي خود را مشخص كنيد",null,null,null,null,null,null,null,null,null,"سيكل"]
[null,null,null,null,null,null,null,null,null,null,null,"ديپلم"]
[null,"سيكل",null,null,null,null,null,null,null,null,null,"كارداني"]
[null,"استان:",null,null,null,null,null,null,null,null,null,"كارشناسي"]
[null,"شهرستان:",null,null,null,null,null,null,null,null,null,"كارشناسي ارشد"]
[null,"مدرسه:",null,null,null,null,null,null,null,null,null,"دكترا"]
[null,"تاريخ اخذ مدرك:",null,"/"]
[]
[]
[null,"ديپلم"]
[null,"استان:"]
[null,"شهرستان:"]
[null,"مدرسه:"]
[null,"رشته تحصيلي:"]
[null,"تاريخ اخذ مدرك:",null,"/"]
[]
[]
[null,"كارداني"]
[null,"استان:"]
[null,"شهرستان:"]
[null,"دانشگاه:"]
[null,"رشته تحصيلي:"]
[null,"گرايش:"]
[null,"تاريخ اخذ مدرك:",null,"/"]
[]
[]
[null,"كارشناسي"]
[null,"استان:"]
[null,"شهرستان:"]
[null,"دانشگاه:"]
[null,"رشته تحصيلي:"]
[null,"گرايش:"]
[null,"تاريخ اخذ مدرك:",null,"/"]
[]
[]
[null,"كارشناسي ارشد"]
[null,"استان:"]
[null,"شهرستان:"]
[null,"دانشگاه:"]
[null,"رشته تحصيلي:"]
[null,"گرايش:"]
[null,"تاريخ اخذ مدرك:",null,"/"]
[]
[]
[null,"دكترا"]
[null,"استان:"]
[null,"شهرستان:"]
[null,"دانشگاه:"]
[null,"رشته تحصيلي:"]
[null,"گرايش:"]
[null,"تاريخ اخذ مدرك:",null,"/"]

{"sheet":"درخواست","index":4,"n_rows":30,"n_cols":13,"rows_kept":30,"cut":false,"hidden":true,"merged":[[15,4,15,10],[16,3,16,10],[17,3,17,10],[18,6,18,10],[19,6,19,10],[23,1,23,2],[24,1,24,2],[25,1,25,2],[23,6,23,10],[24,6,24,10],[25,3,25,10],[26,1,26,2],[27,1,28,2],[29,1,30,2],[26,3,26,10],[27,3,28,10],[29,3,30,10],[21,6,21,10],[22,3,22,10],[19,1,19,2],[19,3,19,5],[20,1,20,2],[20,3,20,5],[20,6,20,10],[21,1,21,2],[21,3,21,5],[22,1,22,2],[17,1,17,2],[18,1,18,2],[18,3,18,5],[7,1,7,2],[5,1,5,2],[8,1,8,2],[9,1,9,2],[16,1,16,2],[15,1,15,3],[8,3,9,10],[12,1,13,2],[5,3,5,10],[14,3,14,10],[6,3,7,3],[6,4,7,4],[6,5,7,5],[14,1,14,2],[6,1,6,2],[6,6,7,6],[6,7,7,7],[6,8,7,10],[10,1,10,2],[11,1,11,2]]}
[]
[]
[]
[]
[]
[null,"درخواست استخدام در زمينه:"]
[null,"تاريخ آماده به استخدام:",null,null,"/",null,"/"]
[null," (روز / ماه / سال)"]
[null,"حقوق ماهيانه مورد انتظار:"]
[null,"(ريال)"]
[null,"تمام يا نيمه وقت:"]
[null,"ساعت كاري:"]
[null,"روزهاي هفته:"]
[]
[null,"زماني كه امكان حضور نداريد:"]
[null,"آيا قبلا زمينه شغلي مشابه داشته ايد؟",null,null,null,null,null,null,null,null,null,null,1]
[null,"سابقه كاري مرتبط"]
[null,"نام كارفرما:"]
[null,"استان:"]
[null,"شهر:"]
[null,"كد پستي:"]
[null,"تلفن:"]
[null,"سمت شغلي:"]
[null,"از تاريخ‌ (ماه/سال):",null,null,"/"]
[null,"تا تاريخ (ماه/سال):",null,null,"/"]
[null,"حقوق دريافتي:"]
[null,"مقام مسئول:"]
[null,"وظايف:"]
[]
[null,"علل استعفا / اخراج:"]

{"sheet":"سوابق كاري","index":5,"n_rows":70,"n_cols":5,"rows_kept":70,"cut":false,"hidden":true,"merged":[[69,1,70,2],[69,3,70,8],[65,1,65,2],[65,3,65,8],[66,1,66,2],[66,3,66,8],[67,1,68,2],[67,3,68,8],[62,1,62,2],[62,3,62,8],[63,1,63,2],[63,6,63,8],[64,1,64,2],[64,6,64,8],[60,1,60,2],[60,3,60,5],[60,6,60,8],[61,1,61,2],[61,3,61,5],[61,6,61,8],[58,1,58,2],[58,3,58,5],[58,6,58,8],[59,1,59,2],[59,3,59,5],[59,6,59,8],[50,1,51,2],[50,3,51,8],[52,1,53,2],[52,3,53,8],[56,1,56,2],[57,1,57,2],[57,3,57,8],[47,1,47,2],[47,6,47,8],[48,1,48,2],[48,3,48,8],[49,1,49,2],[49,3,49,8],[44,1,44,2],[44,3,44,5],[44,6,44,8],[45,1,45,2],[45,3,45,8],[46,1,46,2],[46,6,46,8],[42,1,42,2],[42,3,42,5],[42,6,42,8],[43,1,43,2],[43,3,43,5],[43,6,43,8],[35,1,36,2],[35,3,36,8],[39,1,39,2],[40,1,40,2],[40,3,40,8],[41,1,41,2],[41,3,41,5],[41,6,41,8],[31,1,31,2],[31,3,31,8],[32,1,32,2],[32,3,32,8],[33,1,34,2],[33,3,34,8],[28,1,28,2],[28,3,28,8],[29,1,29,2],[29,6,29,8],[30,1,30,2],[30,6,30,8],[26,1,26,2],[26,3,26,5],[26,6,26,8],[27,1,27,2],[27,3,27,5],[27,6,27,8],[24,1,24,2],[24,3,24,5],[24,6,24,8],[25,1,25,2],[25,3,25,5],[25,6,25,8],[15,3,15,8],[14,3,14,8],[22,1,22,2],[23,1,23,2],[23,3,23,8],[18,1,19,2],[18,3,19,8],[16,3,17,8],[16,1,17,2],[6,3,6,8],[7,6,7,8],[8,6,8,8],[9,6,9,8],[10,6,10,8],[11,3,11,8],[12,6,12,8],[13,6,13,8],[7,3,7,5],[8,3,8,5],[9,3,9,5],[10,3,10,5],[11,1,11,2],[12,1,12,2],[13,1,13,2],[14,1,14,2],[15,1,15,2],[5,1,5,2],[6,1,6,2],[7,1,7,2],[8,1,8,2],[9,1,9,2],[10,1,10,2]]}
[]
[]
[]
[]
[]
[null,"آخرين سابقه كاري"]
[null,"نام كارفرما:"]
[null,"استان:"]
[null,"شهر:"]
[null,"كد پستي:"]
[null,"تلفن:"]
[null,"سمت شغلي:"]
[null,"از تاريخ‌ (ماه/سال):",null,null,"/"]
[null,"تا تاريخ (ماه/سال):",null,null,"/"]
[null,"حقوق دريافتي:"]
[null,"مقام مسئول:"]
[null,"وظايف:"]
[]
[null,"علل استعفا / اخراج:"]
[]
[]
[]
[null,"كارفرماي قبلي 1"]
[null,"نام كارفرما:"]
[null,"استان:"]
[null,"شهر:"]
[null,"كد پستي:"]
[null,"تلفن:"]
[null,"سمت شغلي:"]
[null,"از تاريخ‌ (ماه/سال):",null,null,"/"]
[null,"تا تاريخ (ماه/سال):",null,null,"/"]
[null,"حقوق دريافتي:"]
[null,"مقام مسئول:"]
[null,"وظايف:"]
[]
[null,"علل استعفا / اخراج:"]
[]
[]
[]
[null,"كارفرماي قبلي 2"]
[null,"نام كارفرما:"]
[null,"استان:"]
[null,"شهر:"]
[null,"كد پستي:"]
[null,"تلفن:"]
[null,"سمت شغلي:"]
[null,"از تاريخ‌ (ماه/سال):",null,null,"/"]
[null,"تا تاريخ (ماه/سال):",null,null,"/"]
[null,"حقوق دريافتي:"]
[null,"مقام مسئول:"]
[null,"وظايف:"]
[]
[null,"علل استعفا / اخراج:"]
[]
[]
[]
[null,"كارفرماي قبلي 3"]
[null,"نام كارفرما:"]
[null,"استان:"]
[null,"شهر:"]
[null,"كد پستي:"]
[null,"تلفن:"]
[null,"سمت شغلي:"]
[null,"از تاريخ‌ (ماه/سال):",null,null,"/"]
[null,"تا تاريخ (ماه/سال):",null,null,"/"]
[null,"حقوق دريافتي:"]
[null,"مقام مسئول:"]
[null,"وظايف:"]
[]
[null,"علل استعفا / اخراج:"]

{"sheet":"راننده","index":6,"n_rows":20,"n_cols":15,"rows_kept":20,"cut":false,"hidden":true,"merged":[[7,1,7,6],[7,7,7,11],[11,1,11,8],[14,1,14,10],[10,1,10,2],[12,1,13,2],[12,3,13,11],[8,8,8,11],[5,1,6,2],[5,3,6,11],[10,3,10,11],[19,3,23,11],[19,1,23,2],[17,6,17,11],[18,6,18,11],[17,1,18,1],[9,8,9,11],[17,3,17,5],[18,3,18,5],[15,1,16,2],[15,3,16,11],[8,1,8,2],[9,1,9,2],[8,3,8,7]]}
[]
[]
[]
[]
[]
[null,"آيا شما تمايل به استخدام به عنوان راننده هستيد؟",null,null,null,null,null,null,null,null,null,null,null,null,1]
[]
[null,"آيا شما گواهينامه رانندگي معتبر داريد؟",null,null,null,null,null,null,null,null,null,null,null,null,true]
[null,"شماره گواهينامه:"]
[null,"تاريخ اخذ گواهينامه:",null,null,"/",null,"/"]
[null,"نوع گواهينامه:"]
[null,"آیا درطول پنج سال گذشته سابقه محکومیت یا جریمه تخلف رانندگی داشته اید؟",null,null,null,null,null,null,null,null,null,null,null,null,false]
[null,"شرح مختصري از علت محكوميت يا جريمه:"]
[]
[null,"آیا تاکنون گواهینامه رانندگی شما توسط پلیس راهنمائی رانندگی و یا دادگاه و مرجع قضائی مصادره شده است؟",null,null,null,null,null,null,null,null,null,null,null,null,false]
[null,"شرح مختصري از علت مصادره:"]
[]
[null,"محل اخذ گواهينامه:","استان:"]
[null,null,"شهرستان:"]
[null,"تجربيات كاري:"]

{"sheet":"معرف","index":7,"n_rows":47,"n_cols":4,"rows_kept":47,"cut":false,"hidden":true,"merged":[[46,2,46,3],[46,5,46,8],[39,2,39,3],[39,4,39,8],[40,2,43,2],[40,4,40,5],[40,6,40,8],[41,4,41,5],[41,6,41,8],[42,3,43,3],[42,4,43,8],[44,2,44,3],[44,4,44,5],[44,6,44,8],[45,2,45,3],[45,4,45,8],[35,2,35,3],[35,5,35,8],[28,2,28,3],[28,4,28,8],[29,2,32,2],[29,4,29,5],[29,6,29,8],[30,4,30,5],[30,6,30,8],[31,3,32,3],[31,4,32,8],[33,2,33,3],[33,4,33,5],[33,6,33,8],[34,2,34,3],[34,4,34,8],[24,2,24,3],[24,5,24,8],[18,2,21,2],[18,4,18,5],[18,6,18,8],[19,4,19,5],[19,6,19,8],[20,3,21,3],[20,4,21,8],[22,2,22,3],[22,4,22,5],[22,6,22,8],[23,2,23,3],[23,4,23,8],[6,4,6,8],[7,6,7,8],[8,6,8,8],[9,3,10,3],[6,2,6,3],[17,2,17,3],[17,4,17,8],[12,2,12,3],[13,2,13,3],[7,4,7,5],[8,4,8,5],[11,4,11,5],[9,4,10,8],[11,6,11,8],[12,4,12,8],[7,2,10,2],[11,2,11,3],[13,5,13,8]]}
[]
[]
[]
[]
[]
[null,null,"معرف 1"]
[null,null,"نام معرف:"]
[null,null,"آدرس:","استان:"]
[null,null,null,"شهر:"]
[null,null,null,"آدرس:"]
[]
[null,null,"شماره تلفن:"]
[null,null,"رابطه:"]
[null,null,"تعداد سال‌‌ها:"]
[]
[]
[null,null,"معرف 2"]
[null,null,"نام معرف:"]
[null,null,"آدرس:","استان:"]
[null,null,null,"شهر:"]
[null,null,null,"آدرس:"]
[]
[null,null,"شماره تلفن:"]
[null,null,"رابطه:"]
[null,null,"تعداد سال‌‌ها:"]
[]
[]
[null,null,"معرف 3"]
[null,null,"نام معرف:"]
[null,null,"آدرس:","استان:"]
[null,null,null,"شهر:"]
[null,null,null,"آدرس:"]
[]
[null,null,"شماره تلفن:"]
[null,null,"رابطه:"]
[null,null,"تعداد سال‌‌ها:"]
[]
[]
[null,null,"معرف4"]
[null,null,"نام معرف:"]
[null,null,"آدرس:","استان:"]
[null,null,null,"شهر:"]
[null,null,null,"آدرس:"]
[]
[null,null,"شماره تلفن:"]
[null,null,"رابطه:"]
[null,null,"تعداد سال‌‌ها:"]

{"sheet":"بررسي نهايي","index":8,"n_rows":222,"n_cols":10,"rows_kept":222,"cut":false,"hidden":true,"merged":[[219,1,219,2],[219,3,219,7],[219,8,219,9],[220,1,220,2],[220,3,220,7],[220,8,220,9],[221,1,221,2],[221,3,221,4],[221,5,221,9],[213,1,213,2],[213,3,213,9],[214,1,214,2],[214,3,214,9],[215,1,218,1],[215,3,215,7],[215,8,215,9],[216,3,216,7],[216,8,216,9],[217,2,218,2],[217,3,218,9],[210,1,210,2],[210,3,210,7],[210,8,210,9],[211,1,211,2],[211,3,211,7],[211,8,211,9],[212,1,212,2],[212,3,212,4],[212,5,212,9],[204,1,204,2],[204,3,204,9],[205,1,205,2],[205,3,205,9],[206,1,209,1],[206,3,206,7],[206,8,206,9],[207,3,207,7],[207,8,207,9],[208,2,209,2],[208,3,209,9],[201,1,201,2],[201,3,201,7],[201,8,201,9],[202,1,202,2],[202,3,202,7],[202,8,202,9],[203,1,203,2],[203,3,203,4],[203,5,203,9],[195,1,195,2],[195,3,195,9],[196,1,196,2],[196,3,196,9],[197,1,200,1],[197,3,197,7],[197,8,197,9],[198,3,198,7],[198,8,198,9],[199,2,200,2],[199,3,200,9],[188,3,188,7],[189,3,189,7],[190,3,191,9],[192,3,192,7],[193,3,193,7],[194,3,194,4],[194,1,194,2],[186,3,186,9],[187,3,187,9],[188,8,188,9],[189,8,189,9],[192,8,192,9],[193,8,193,9],[194,5,194,9],[193,1,193,2],[186,1,186,2],[187,1,187,2],[192,1,192,2],[188,1,191,1],[190,2,191,2],[163,3,164,9],[185,1,185,9],[165,1,165,9],[104,1,104,9],[77,1,77,9],[37,1,37,9],[13,1,13,9],[4,1,4,9],[17,1,18,2],[24,1,25,2],[32,1,33,2],[85,1,86,2],[100,1,101,2],[102,1,103,2],[116,1,117,2],[118,1,119,2],[131,1,132,2],[133,1,134,2],[146,1,147,2],[148,1,149,2],[161,1,162,2],[163,1,164,2],[170,1,171,2],[177,1,178,2],[124,1,124,2],[125,1,125,2],[126,1,126,2],[127,1,127,2],[128,1,128,2],[129,1,129,2],[130,1,130,2],[159,1,159,2],[160,1,160,2],[150,1,150,2],[151,1,151,2],[152,1,152,2],[153,1,153,2],[154,1,154,2],[155,1,155,2],[156,1,156,2],[157,1,157,2],[158,1,158,2],[142,1,142,2],[143,1,143,2],[144,1,144,2],[145,1,145,2],[139,1,139,2],[140,1,140,2],[96,1,96,2],[97,1,97,2],[98,1,98,2],[99,1,99,2],[105,1,105,2],[106,1,106,2],[107,1,107,2],[108,1,108,2],[109,1,109,2],[60,1,60,2],[61,1,61,2],[62,1,62,2],[63,1,63,2],[64,1,64,2],[65,1,65,2],[81,1,81,2],[82,1,82,2],[83,1,83,2],[66,1,66,2],[67,1,67,2],[68,1,68,2],[69,1,69,2],[70,1,70,2],[71,1,71,2],[72,1,72,2],[73,1,73,2],[74,1,74,2],[75,1,75,2],[76,1,76,2],[78,1,78,2],[79,1,79,2],[80,1,80,2],[51,1,51,2],[52,1,52,2],[53,1,53,2],[54,1,54,2],[55,1,55,2],[56,1,56,2],[57,1,57,2],[58,1,58,2],[59,1,59,2],[161,3,162,9],[29,1,29,2],[30,1,30,2],[31,1,31,2],[34,1,34,2],[35,1,35,2],[36,1,36,2],[38,1,38,2],[5,1,5,2],[6,1,6,2],[7,1,7,2],[8,1,8,2],[9,1,9,2],[10,1,10,2],[11,1,11,2],[12,1,12,2],[14,1,14,2],[15,1,15,2],[16,1,16,2],[19,1,19,2],[20,1,20,2],[21,1,21,2],[22,1,22,2],[23,1,23,2],[181,3,184,9],[175,9,176,9],[177,3,178,9],[166,8,166,9],[167,8,167,9],[171,8,171,9],[172,1,172,8],[173,1,174,2],[175,1,176,8],[173,3,174,9],[179,7,179,8],[180,7,180,8],[179,3,179,6],[180,3,180,6],[179,1,180,2],[169,1,169,2],[169,8,169,9],[170,3,170,4],[170,5,170,6],[171,3,171,4],[171,5,171,6],[166,1,166,6],[167,1,167,6],[181,1,184,2],[168,1,168,2],[168,8,168,9],[168,3,168,7],[120,3,120,9],[122,7,122,9],[123,7,123,9],[124,7,124,9],[115,3,115,9],[116,3,117,9],[150,3,150,9],[152,7,152,9],[153,7,153,9],[156,3,156,9],[157,7,157,9],[158,7,158,9],[159,3,159,9],[160,3,160,9],[151,3,151,9],[152,3,152,6],[153,3,153,6],[154,3,154,6],[155,3,155,6],[154,7,154,9],[155,7,155,9],[137,1,137,2],[138,1,138,2],[146,3,147,9],[148,3,149,9],[139,3,139,6],[140,3,140,6],[141,3,141,9],[142,7,142,9],[143,7,143,9],[139,7,139,9],[140,7,140,9],[144,3,144,9],[145,3,145,9],[141,1,141,2],[121,1,121,2],[122,1,122,2],[123,1,123,2],[133,3,134,9],[136,3,136,9],[137,3,137,6],[138,3,138,6],[138,7,138,9],[135,3,135,9],[137,7,137,9],[135,1,135,2],[131,3,132,9],[121,3,121,9],[124,3,124,6],[125,3,125,6],[126,3,126,9],[127,7,127,9],[128,7,128,9],[129,3,129,9],[130,3,130,9],[122,3,122,6],[123,3,123,6],[125,7,125,9],[136,1,136,2],[120,1,120,2],[106,3,106,9],[107,3,107,6],[108,3,108,6],[109,3,109,6],[105,3,105,9],[107,7,107,9],[108,7,108,9],[109,7,109,9],[110,7,110,9],[118,3,119,9],[110,3,110,6],[111,3,111,9],[114,3,114,9],[110,1,110,2],[111,1,111,2],[112,1,112,2],[113,1,113,2],[114,1,114,2],[115,1,115,2],[112,6,112,9],[113,6,113,9],[98,3,98,9],[99,3,99,9],[100,3,101,9],[92,3,92,6],[91,3,91,6],[95,3,95,9],[90,3,90,9],[102,3,103,9],[93,3,93,6],[94,3,94,6],[91,7,91,9],[92,7,92,9],[93,7,93,9],[94,7,94,9],[96,7,96,9],[97,7,97,9],[92,1,92,2],[93,1,93,2],[94,1,94,2],[95,1,95,2],[89,3,89,9],[84,8,84,9],[83,7,83,9],[88,4,88,5],[88,7,88,9],[87,3,87,9],[85,3,85,5],[85,6,85,7],[86,3,86,5],[86,6,86,7],[84,1,84,2],[87,1,87,2],[88,1,88,3],[89,1,89,2],[15,3,15,9],[19,3,19,5],[16,3,16,9],[17,3,18,9],[29,3,29,9],[30,3,30,9],[31,3,31,9],[90,1,90,2],[91,1,91,2],[27,1,27,2],[28,1,28,2],[26,1,26,2],[39,1,39,2],[40,1,40,2],[41,1,41,2],[42,1,42,2],[43,1,43,2],[44,1,44,2],[45,1,45,2],[46,1,46,2],[47,1,47,2],[48,1,48,2],[49,1,49,2],[50,1,50,2],[5,3,5,9],[6,3,6,9],[7,3,7,9],[8,3,8,9],[9,3,9,9],[10,3,10,9],[26,3,26,5],[35,6,35,9],[36,6,36,9],[32,3,33,9],[34,6,34,9],[24,3,25,9],[26,6,26,9],[27,6,27,9],[28,6,28,9],[34,3,34,5],[14,3,14,9],[21,3,21,9],[19,6,19,9],[20,6,20,9],[22,3,22,9],[23,3,23,9],[11,3,11,9],[12,3,12,9],[39,3,39,9],[53,3,53,9],[41,3,41,9],[38,3,38,9],[43,3,43,9],[44,3,44,9],[45,3,45,9],[46,3,46,9],[40,3,40,9],[47,3,47,9],[49,3,49,9],[50,3,50,9],[51,3,51,9],[52,3,52,9],[56,3,56,9],[57,3,57,9],[58,3,58,9],[59,3,59,9],[60,3,60,9],[76,6,76,9],[68,3,68,9],[70,3,70,9],[42,6,42,9],[48,6,48,9],[55,6,55,9],[62,6,62,9],[69,6,69,9],[61,3,61,9],[63,3,63,9],[64,3,64,9],[65,3,65,9],[66,3,66,9],[67,3,67,9],[54,3,54,9],[71,3,71,9],[72,3,72,9],[73,3,73,9],[74,3,74,9],[81,3,82,9],[83,3,83,6],[84,3,84,5],[84,6,84,7],[75,3,75,9],[78,3,78,9],[79,3,80,3],[79,4,80,4],[79,5,80,5],[79,6,80,6],[79,7,80,7],[79,8,80,9]]}
[]
[]
[]
[]
[null,"شخصي"]
[null,{"$f":"شخصي!D6","v":"نام:"},null,{"$f":"شخصي!E6","v":0}]
[null,{"$f":"شخصي!D7","v":"نام مستعار:"},null,{"$f":"شخصي!E7","v":0}]
[null,{"$f":"شخصي!D8","v":"نام خانوادگي:"},null,{"$f":"شخصي!E8","v":0}]
[null,{"$f":"شخصي!D9","v":"تلفن منزل:"},null,{"$f":"شخصي!E9","v":0}]
[null,{"$f":"شخصي!D10","v":"تلفن محل كار:"},null,{"$f":"شخصي!E10","v":0}]
[null,{"$f":"شخصي!D11","v":"تلفن همراه:"},null,{"$f":"شخصي!E11","v":0}]
[null,{"$f":"شخصي!D12","v":"آدرس ايميل:"},null,{"$f":"شخصي!E12","v":0}]
[null,{"$f":"شخصي!D13","v":"كد ملي:"},null,{"$f":"شخصي!E13","v":0}]
[null,"آدرس"]
[null,{"$f":"آدرس!B8","v":"آدرس 1"}]
[null,{"$f":"آدرس!B9","v":"استان:"},null,{"$f":"آدرس!C9","v":0}]
[null,{"$f":"آدرس!B10","v":"شهرستان:"},null,{"$f":"آدرس!C10","v":0}]
[null,{"$f":"آدرس!B11","v":"آدرس:"},null,{"$f":"آدرس!C11","v":0}]
[]
[null,{"$f":"آدرس!B13","v":"كد پستي:"},null,{"$f":"آدرس!C13","v":0}]
[null,{"$f":"آدرس!B14","v":"از تاريخ (ماه/سال):"},null,{"$f":"آدرس!C14","v":0},{"$f":"آدرس!D14","v":"/"},{"$f":"آدرس!E14","v":0}]
[null,{"$f":"آدرس!B17","v":"آدرس 2"}]
[null,{"$f":"آدرس!B18","v":"استان:"},null,{"$f":"آدرس!C18","v":0}]
[null,{"$f":"آدرس!B19","v":"شهرستان:"},null,{"$f":"آدرس!C19","v":0}]
[null,{"$f":"آدرس!B20","v":"آدرس:"},null,{"$f":"آدرس!C20","v":0}]
[]
[null,{"$f":"آدرس!B22","v":"كد پستي:"},null,{"$f":"آدرس!C22","v":0}]
[null,{"$f":"آدرس!B23","v":"از تاريخ (ماه/سال):"},null,{"$f":"آدرس!C23","v":0},{"$f":"آدرس!D23","v":"/"},{"$f":"آدرس!E23","v":0}]
[null,{"$f":"آدرس!B24","v":"تا تاريخ (ماه/سال):"},null,{"$f":"آدرس!C24","v":0},{"$f":"آدرس!D24","v":"/"},{"$f":"آدرس!E24","v":0}]
[null,{"$f":"آدرس!B27","v":"آدرس 3"}]
[null,{"$f":"آدرس!B28","v":"استان:"},null,{"$f":"آدرس!C28","v":0}]
[null,{"$f":"آدرس!B29","v":"شهرستان:"},null,{"$f":"آدرس!C29","v":0}]
[null,{"$f":"آدرس!B30","v":"آدرس:"},null,{"$f":"آدرس!C30","v":0}]
[]
[null,{"$f":"آدرس!B32","v":"كد پستي:"},null,{"$f":"آدرس!C32","v":0}]
[null,{"$f":"آدرس!B33","v":"از تاريخ (ماه/سال):"},null,{"$f":"آدرس!C33","v":0},{"$f":"آدرس!D33","v":"/"},{"$f":"آدرس!E33","v":0}]
[null,{"$f":"آدرس!B34","v":"تا تاريخ (ماه/سال):"},null,{"$f":"آدرس!C34","v":0},{"$f":"آدرس!D34","v":"/"},{"$f":"آدرس!E34","v":0}]
[null,"تحصيلات"]
[null,{"$f":"تحصيلات!B8","v":"سيكل"}]
[null,{"$f":"تحصيلات!B9","v":"استان:"},null,{"$f":"تحصيلات!C9","v":0}]
[null,{"$f":"تحصيلات!B10","v":"شهرستان:"},null,{"$f":"تحصيلات!C10","v":0}]
[null,{"$f":"تحصيلات!B11","v":"مدرسه:"},null,{"$f":"تحصيلات!C11","v":0}]
[null,{"$f":"تحصيلات!B12","v":"تاريخ اخذ مدرك:"},null,{"$f":"تحصيلات!C12","v":0},{"$f":"تحصيلات!D12","v":"/"},{"$f":"تحصيلات!E12","v":0}]
[null,{"$f":"تحصيلات!B15","v":"ديپلم"}]
[null,{"$f":"تحصيلات!B16","v":"استان:"},null,{"$f":"تحصيلات!C16","v":0}]
[null,{"$f":"تحصيلات!B17","v":"شهرستان:"},null,{"$f":"تحصيلات!C17","v":0}]
[null,{"$f":"تحصيلات!B18","v":"مدرسه:"},null,{"$f":"تحصيلات!C18","v":0}]
[null,{"$f":"تحصيلات!B19","v":"رشته تحصيلي:"},null,{"$f":"تحصيلات!C19","v":0}]
[null,{"$f":"تحصيلات!B20","v":"تاريخ اخذ مدرك:"},null,{"$f":"تحصيلات!C20","v":0},{"$f":"تحصيلات!D20","v":"/"},{"$f":"تحصيلات!E20","v":0}]
[null,{"$f":"تحصيلات!B23","v":"كارداني"}]
[null,{"$f":"تحصيلات!B24","v":"استان:"},null,{"$f":"تحصيلات!C24","v":0}]
[null,{"$f":"تحصيلات!B25","v":"شهرستان:"},null,{"$f":"تحصيلات!C25","v":0}]
[null,{"$f":"تحصيلات!B26","v":"دانشگاه:"},null,{"$f":"تحصيلات!C26","v":0}]
[null,{"$f":"تحصيلات!B27","v":"رشته تحصيلي:"},null,{"$f":"تحصيلات!C27","v":0}]
[null,{"$f":"تحصيلات!B28","v":"گرايش:"},null,{"$f":"تحصيلات!C28","v":0}]
[null,{"$f":"تحصيلات!B29","v":"تاريخ اخذ مدرك:"},null,{"$f":"تحصيلات!C29","v":0},{"$f":"تحصيلات!D29","v":"/"},{"$f":"تحصيلات!E29","v":0}]
[null,{"$f":"تحصيلات!B32","v":"كارشناسي"}]
[null,{"$f":"تحصيلات!B33","v":"استان:"},null,{"$f":"تحصيلات!C33","v":0}]
[null,{"$f":"تحصيلات!B34","v":"شهرستان:"},null,{"$f":"تحصيلات!C34","v":0}]
[null,{"$f":"تحصيلات!B35","v":"دانشگاه:"},null,{"$f":"تحصيلات!C35","v":0}]
[null,{"$f":"تحصيلات!B36","v":"رشته تحصيلي:"},null,{"$f":"تحصيلات!C36","v":0}]
[null,{"$f":"تحصيلات!B37","v":"گرايش:"},null,{"$f":"تحصيلات!C37","v":0}]
[null,{"$f":"تحصيلات!B38","v":"تاريخ اخذ مدرك:"},null,{"$f":"تحصيلات!C38","v":0},{"$f":"تحصيلات!D38","v":"/"},{"$f":"تحصيلات!E38","v":0}]
[null,{"$f":"تحصيلات!B41","v":"كارشناسي ارشد"}]
[null,{"$f":"تحصيلات!B42","v":"استان:"},null,{"$f":"تحصيلات!C42","v":0}]
[null,{"$f":"تحصيلات!B43","v":"شهرستان:"},null,{"$f":"تحصيلات!C43","v":0}]
[null,{"$f":"تحصيلات!B44","v":"دانشگاه:"},null,{"$f":"تحصيلات!C44","v":0}]
[null,{"$f":"تحصيلات!B45","v":"رشته تحصيلي:"},null,{"$f":"تحصيلات!C45","v":0}]
[null,{"$f":"تحصيلات!B46","v":"گرايش:"},null,{"$f":"تحصيلات!C46","v":0}]
[null,{"$f":"تحصيلات!B47","v":"تاريخ اخذ مدرك:"},null,{"$f":"تحصيلات!C47","v":0},{"$f":"تحصيلات!D47","v":"/"},{"$f":"تحصيلات!E47","v":0}]
[null,{"$f":"تحصيلات!B50","v":"دكترا"}]
[null,{"$f":"تحصيلات!B51","v":"استان:"},null,{"$f":"تحصيلات!C51","v":0}]
[null,{"$f":"تحصيلات!B52","v":"شهرستان:"},null,{"$f":"تحصيلات!C52","v":0}]
[null,{"$f":"تحصيلات!B53","v":"دانشگاه:"},null,{"$f":"تحصيلات!C53","v":0}]
[null,{"$f":"تحصيلات!B54","v":"رشته تحصيلي:"},null,{"$f":"تحصيلات!C54","v":0}]
[null,{"$f":"تحصيلات!B55","v":"گرايش:"},null,{"$f":"تحصيلات!C55","v":0}]
[null,{"$f":"تحصيلات!B56","v":"تاريخ اخذ مدرك:"},null,{"$f":"تحصيلات!C56","v":0},{"$f":"تحصيلات!D56","v":"/"},{"$f":"تحصيلات!E56","v":0}]
[null,"درخواست"]
[null,{"$f":"درخواست!B6","v":"درخواست استخدام در زمينه:"},null,{"$f":"درخواست!D6","v":0}]
[null,{"$f":"درخواست!B7","v":"تاريخ آماده به استخدام:"},null,{"$f":"درخواست!D7","v":0},{"$f":"درخواست!E7","v":"/"},{"$f":"درخواست!F7","v":0},{"$f":"درخواست!G7","v":"/"},{"$f":"درخواست!H7","v":0}]
[null,{"$f":"درخواست!B8","v":" (روز / ماه / سال)"}]
[null,{"$f":"درخواست!B9","v":"حقوق ماهيانه مورد انتظار:"},null,{"$f":"درخواست!D9","v":0}]
[null,{"$f":"درخواست!B10","v":"(ريال)"}]
[null,{"$f":"درخواست!B11","v":"تمام يا نيمه وقت:"},null,{"$f":"IF(درخواست!M11=1,\"تمام وقت\",\"نيمه وقت\")","v":"نيمه وقت"}]
[null,{"$f":"درخواست!B12","v":"ساعت كاري:"},null,{"$f":"IF(درخواست!M12,\"تعطيلات\",\"\")","v":""},null,null,{"$f":"IF(درخواست!N12,\"عصرها\",\"\")","v":""}]
[null,{"$f":"درخواست!B13","v":"روزهاي هفته:"},null,{"$f":"IF(درخواست!M13,\"شنبه\",\"\")","v":""},null,null,{"$f":"IF(درخواست!N13,\"يكشنبه\",\"\")","v":""},null,{"$f":"IF(درخواست!O13,\"دوشنبه\",\"\")","v":""},{"$f":"IF(درخواست!P13,\"سه شنبه\",\"\")","v":""}]
[null,null,null,{"$f":"IF(درخواست!M14,\"چهارشنبه\",\"\")","v":""},null,null,{"$f":"IF(درخواست!N14,\"پنج شنبه\",\"\")","v":""},null,{"$f":"IF(درخواست!O14,\"جمعه\",\"\")","v":""}]
[null,{"$f":"درخواست!B15","v":"زماني كه امكان حضور نداريد:"},null,{"$f":"درخواست!D15","v":0}]
[null,{"$f":"درخواست!B16","v":"آيا قبلا زمينه شغلي مشابه داشته ايد؟"},null,null,{"$f":"IF(درخواست!M16=1,\"خير\",\"بلي\")","v":"خير"}]
[null,{"$f":"درخواست!B17","v":"سابقه كاري مرتبط"}]
[null,{"$f":"درخواست!B18","v":"نام كارفرما:"},null,{"$f":"درخواست!D18","v":0}]
[null,{"$f":"درخواست!B19","v":"استان:"},null,{"$f":"درخواست!D19","v":0}]
[null,{"$f":"درخواست!B20","v":"شهر:"},null,{"$f":"درخواست!D20","v":0}]
[null,{"$f":"درخواست!B21","v":"كد پستي:"},null,{"$f":"درخواست!D21","v":0}]
[null,{"$f":"درخواست!B22","v":"تلفن:"},null,{"$f":"درخواست!D22","v":0}]
[null,{"$f":"درخواست!B23","v":"سمت شغلي:"},null,{"$f":"درخواست!D23","v":0}]
[null,{"$f":"درخواست!B24","v":"از تاريخ‌ (ماه/سال):"},null,{"$f":"درخواست!D24","v":0},{"$f":"درخواست!E24","v":"/"},{"$f":"درخواست!F24","v":0}]
[null,{"$f":"درخواست!B25","v":"تا تاريخ (ماه/سال):"},null,{"$f":"درخواست!D25","v":0},{"$f":"درخواست!E25","v":"/"},{"$f":"درخواست!F25","v":0}]
[null,{"$f":"درخواست!B26","v":"حقوق دريافتي:"},null,{"$f":"درخواست!D26","v":0}]
[null,{"$f":"درخواست!B27","v":"مقام مسئول:"},null,{"$f":"درخواست!D27","v":0}]
[null,{"$f":"درخواست!B28","v":"وظايف:"},null,{"$f":"درخواست!D28","v":0}]
[]
[null,{"$f":"درخواست!B30","v":"علل استعفا / اخراج:"},null,{"$f":"درخواست!D30","v":0}]
[]
[null,"سوابق كاري"]
[null,{"$f":"'سوابق كاري'!B6:C6","v":"آخرين سابقه كاري"}]
[null,{"$f":"'سوابق كاري'!B7:C7","v":"نام كارفرما:"},null,{"$f":"'سوابق كاري'!D7","v":0}]
[null,{"$f":"'سوابق كاري'!B8:C8","v":"استان:"},null,{"$f":"'سوابق كاري'!D8","v":0}]
[null,{"$f":"'سوابق كاري'!B9:C9","v":"شهر:"},null,{"$f":"'سوابق كاري'!D9","v":0}]
[null,{"$f":"'سوابق كاري'!B10:C10","v":"كد پستي:"},null,{"$f":"'سوابق كاري'!D10","v":0}]
[null,{"$f":"'سوابق كاري'!B11:C11","v":"تلفن:"},null,{"$f":"'سوابق كاري'!D11","v":0}]
[null,{"$f":"'سوابق كاري'!B12:C12","v":"سمت شغلي:"},null,{"$f":"'سوابق كاري'!D12","v":0}]
[null,{"$f":"'سوابق كاري'!B13:C13","v":"از تاريخ‌ (ماه/سال):"},null,{"$f":"'سوابق كاري'!D13","v":0},{"$f":"'سوابق كاري'!E13","v":"/"},{"$f":"'سوابق كاري'!F13","v":0}]
[null,{"$f":"'سوابق كاري'!B14:C14","v":"تا تاريخ (ماه/سال):"},null,{"$f":"'سوابق كاري'!D14","v":0},{"$f":"'سوابق كاري'!E14","v":"/"},{"$f":"'سوابق كاري'!F14","v":0}]
[null,{"$f":"'سوابق كاري'!B15:C15","v":"حقوق دريافتي:"},null,{"$f":"'سوابق كاري'!D15","v":0}]
[null,{"$f":"'سوابق كاري'!B16:C16","v":"مقام مسئول:"},null,{"$f":"'سوابق كاري'!D16","v":0}]
[null,{"$f":"'سوابق كاري'!B17:C17","v":"وظايف:"},null,{"$f":"'سوابق كاري'!D17","v":0}]
[]
[null,{"$f":"'سوابق كاري'!B19:C19","v":"علل استعفا / اخراج:"},null,{"$f":"'سوابق كاري'!D19","v":0}]
[]
[null,{"$f":"'سوابق كاري'!B23:C23","v":"كارفرماي قبلي 1"}]
[null,{"$f":"'سوابق كاري'!B24:C24","v":"نام كارفرما:"},null,{"$f":"'سوابق كاري'!D24","v":0}]
[null,{"$f":"'سوابق كاري'!B25:C25","v":"استان:"},null,{"$f":"'سوابق كاري'!D25","v":0}]
[null,{"$f":"'سوابق كاري'!B26:C26","v":"شهر:"},null,{"$f":"'سوابق كاري'!D26","v":0}]
[null,{"$f":"'سوابق كاري'!B27:C27","v":"كد پستي:"},null,{"$f":"'سوابق كاري'!D27","v":0}]
[null,{"$f":"'سوابق كاري'!B28:C28","v":"تلفن:"},null,{"$f":"'سوابق كاري'!D28","v":0}]
[null,{"$f":"'سوابق كاري'!B29:C29","v":"سمت شغلي:"},null,{"$f":"'سوابق كاري'!D29","v":0}]
[null,{"$f":"'سوابق كاري'!B30:C30","v":"از تاريخ‌ (ماه/سال):"},null,{"$f":"'سوابق كاري'!D30","v":0},{"$f":"'سوابق كاري'!E30","v":"/"},{"$f":"'سوابق كاري'!F30","v":0},{"$f":"'سوابق كاري'!G30","v":0}]
[null,{"$f":"'سوابق كاري'!B31:C31","v":"تا تاريخ (ماه/سال):"},null,{"$f":"'سوابق كاري'!D31","v":0},{"$f":"'سوابق كاري'!E31","v":"/"},{"$f":"'سوابق كاري'!F31","v":0}]
[null,{"$f":"'سوابق كاري'!B32:C32","v":"حقوق دريافتي:"},null,{"$f":"'سوابق كاري'!D32","v":0}]
[null,{"$f":"'سوابق كاري'!B33:C33","v":"مقام مسئول:"},null,{"$f":"'سوابق كاري'!D33","v":0}]
[null,{"$f":"'سوابق كاري'!B34:C34","v":"وظايف:"},null,{"$f":"'سوابق كاري'!D34","v":0}]
[]
[null,{"$f":"'سوابق كاري'!B36:C36","v":"علل استعفا / اخراج:"},null,{"$f":"'سوابق كاري'!D36","v":0}]
[]
[null,{"$f":"'سوابق كاري'!B40:C40","v":"كارفرماي قبلي 2"}]
[null,{"$f":"'سوابق كاري'!B41:C41","v":"نام كارفرما:"},null,{"$f":"'سوابق كاري'!D41","v":0}]
[null,{"$f":"'سوابق كاري'!B42:C42","v":"استان:"},null,{"$f":"'سوابق كاري'!D42","v":0}]
[null,{"$f":"'سوابق كاري'!B43:C43","v":"شهر:"},null,{"$f":"'سوابق كاري'!D43","v":0}]
[null,{"$f":"'سوابق كاري'!B44:C44","v":"كد پستي:"},null,{"$f":"'سوابق كاري'!D44","v":0}]
[null,{"$f":"'سوابق كاري'!B45:C45","v":"تلفن:"},null,{"$f":"'سوابق كاري'!D45","v":0}]
[null,{"$f":"'سوابق كاري'!B46:C46","v":"سمت شغلي:"},null,{"$f":"'سوابق كاري'!D46","v":0}]
[null,{"$f":"'سوابق كاري'!B47:C47","v":"از تاريخ‌ (ماه/سال):"},null,{"$f":"'سوابق كاري'!D47","v":0},{"$f":"'سوابق كاري'!E47","v":"/"},{"$f":"'سوابق كاري'!F47","v":0},{"$f":"'سوابق كاري'!G47","v":0}]
[null,{"$f":"'سوابق كاري'!B48:C48","v":"تا تاريخ (ماه/سال):"},null,{"$f":"'سوابق كاري'!D48","v":0},{"$f":"'سوابق كاري'!E48","v":"/"},{"$f":"'سوابق كاري'!F48","v":0}]
[null,{"$f":"'سوابق كاري'!B49:C49","v":"حقوق دريافتي:"},null,{"$f":"'سوابق كاري'!D49","v":0}]
[null,{"$f":"'سوابق كاري'!B50:C50","v":"مقام مسئول:"},null,{"$f":"'سوابق كاري'!D50","v":0}]
[null,{"$f":"'سوابق كاري'!B51:C51","v":"وظايف:"},null,{"$f":"'سوابق كاري'!D51","v":0}]
[]
[null,{"$f":"'سوابق كاري'!B53:C53","v":"علل استعفا / اخراج:"},null,{"$f":"'سوابق كاري'!D53","v":0}]
[]
[null,{"$f":"'سوابق كاري'!B57:C57","v":"كارفرماي قبلي 3"}]
[null,{"$f":"'سوابق كاري'!B58:C58","v":"نام كارفرما:"},null,{"$f":"'سوابق كاري'!D58","v":0}]
[null,{"$f":"'سوابق كاري'!B59:C59","v":"استان:"},null,{"$f":"'سوابق كاري'!D59","v":0}]
[null,{"$f":"'سوابق كاري'!B60:C60","v":"شهر:"},null,{"$f":"'سوابق كاري'!D60","v":0}]
[null,{"$f":"'سوابق كاري'!B61:C61","v":"كد پستي:"},null,{"$f":"'سوابق كاري'!D61","v":0}]
[null,{"$f":"'سوابق كاري'!B62:C62","v":"تلفن:"},null,{"$f":"'سوابق كاري'!D62","v":0}]
[null,{"$f":"'سوابق كاري'!B63:C63","v":"سمت شغلي:"},null,{"$f":"'سوابق كاري'!D63","v":0}]
[null,{"$f":"'سوابق كاري'!B64:C64","v":"از تاريخ‌ (ماه/سال):"},null,{"$f":"'سوابق كاري'!D64","v":0},{"$f":"'سوابق كاري'!E64","v":"/"},{"$f":"'سوابق كاري'!F64","v":0},{"$f":"'سوابق كاري'!G64","v":0}]
[null,{"$f":"'سوابق كاري'!B65:C65","v":"تا تاريخ (ماه/سال):"},null,{"$f":"'سوابق كاري'!D65","v":0},{"$f":"'سوابق كاري'!E65","v":"/"},{"$f":"'سوابق كاري'!F65","v":0}]
[null,{"$f":"'سوابق كاري'!B66:C66","v":"حقوق دريافتي:"},null,{"$f":"'سوابق كاري'!D66","v":0}]
[null,{"$f":"'سوابق كاري'!B67:C67","v":"مقام مسئول:"},null,{"$f":"'سوابق كاري'!D67","v":0}]
[null,{"$f":"'سوابق كاري'!B68:C68","v":"وظايف:"},null,{"$f":"'سوابق كاري'!D68","v":0}]
[]
[null,{"$f":"'سوابق كاري'!B70:C70","v":"علل استعفا / اخراج:"},null,{"$f":"'سوابق كاري'!D70","v":0}]
[]
[null,"راننده"]
[null,{"$f":"راننده!B6","v":"آيا شما تمايل به استخدام به عنوان راننده هستيد؟"},null,null,null,null,null,{"$f":"IF(راننده!O6=1,\"خير\",\"بلي\")","v":"خير"}]
[null,{"$f":"راننده!B8","v":"آيا شما گواهينامه رانندگي معتبر داريد؟"},null,null,null,null,null,{"$f":"IF(راننده!O8,\"بلي\",\"خير\")","v":"بلي"}]
[null,{"$f":"راننده!B9","v":"شماره گواهينامه:"},null,{"$f":"راننده!D9","v":0}]
[null,{"$f":"راننده!B10","v":"تاريخ اخذ گواهينامه:"},null,{"$f":"راننده!D10","v":0},"/",{"$f":"راننده!F10","v":0},"/",{"$f":"راننده!H10","v":0}]
[null,{"$f":"راننده!B11","v":"نوع گواهينامه:"},null,{"$f":"IF(راننده!O11,\"الف 2\",\"\")","v":""},null,{"$f":"IF(راننده!Q11,\"الف 3\",\"\")","v":""},null,{"$f":"IF(راننده!Q11,\"ب 1\",\"\")","v":""},{"$f":"IF(راننده!R11,\"ب 2\",\"\")","v":""},{"$f":"IF(راننده!S11,\"پ 1\",\"\")","v":""}]
[null,null,null,{"$f":"IF(راننده!T11,\"پ 2\",\"\")","v":""},null,{"$f":"IF(راننده!U11,\"ت 1\",\"\")","v":""},null,{"$f":"IF(راننده!V11,\"ت 2\",\"\")","v":""}]
[null,{"$f":"راننده!B12","v":"آیا درطول پنج سال گذشته سابقه محکومیت یا جریمه تخلف رانندگی داشته اید؟"},null,null,null,null,null,null,null,{"$f":"IF(راننده!O12,\"بلي\",\"خير\")","v":"خير"}]
[null,{"$f":"راننده!B13","v":"شرح مختصري از علت محكوميت يا جريمه:"},null,{"$f":"راننده!D13","v":0}]
[]
[null,{"$f":"راننده!B15","v":"آیا تاکنون گواهینامه رانندگی شما توسط پلیس راهنمائی رانندگی و یا دادگاه و مرجع قضائی مصادره شده است؟"},null,null,null,null,null,null,null,{"$f":"IF(راننده!O15,\"بلي\",\"خير\")","v":"خير"}]
[]
[null,{"$f":"راننده!B16","v":"شرح مختصري از علت مصادره:"},null,{"$f":"راننده!D16","v":0}]
[]
[null,{"$f":"راننده!B18","v":"محل اخذ گواهينامه:"},null,{"$f":"راننده!C18","v":"استان:"},null,null,null,{"$f":"راننده!D18","v":0}]
[null,null,null,{"$f":"راننده!C19","v":"شهرستان:"},null,null,null,{"$f":"راننده!D19","v":0}]
[null,{"$f":"راننده!B20","v":"تجربيات كاري:"},null,{"$f":"راننده!D20","v":0}]
[]
[]
[]
[null,"معرف"]
[null,{"$f":"معرف!C6","v":"معرف 1"}]
[null,{"$f":"معرف!C7","v":"نام معرف:"},null,{"$f":"معرف!E7","v":0}]
[null,{"$f":"معرف!C8","v":"آدرس:"},{"$f":"معرف!D8","v":"استان:"},{"$f":"معرف!E8","v":0}]
[null,null,{"$f":"معرف!D9","v":"شهر:"},{"$f":"معرف!E9","v":0}]
[null,null,{"$f":"معرف!D10","v":"آدرس:"},{"$f":"معرف!E10","v":0}]
[]
[null,{"$f":"معرف!C12","v":"شماره تلفن:"},null,{"$f":"معرف!E12","v":0}]
[null,{"$f":"معرف!C13","v":"رابطه:"},null,{"$f":"معرف!E13","v":0}]
[null,{"$f":"معرف!C14","v":"تعداد سال‌‌ها:"},null,{"$f":"معرف!E14","v":0}]
[null,{"$f":"معرف!C17","v":"معرف 2"}]
[null,{"$f":"معرف!C18","v":"نام معرف:"},null,{"$f":"معرف!E18","v":0}]
[null,{"$f":"معرف!C19","v":"آدرس:"},{"$f":"معرف!D19","v":"استان:"},{"$f":"معرف!E19","v":0}]
[null,null,{"$f":"معرف!D20","v":"شهر:"},{"$f":"معرف!E20","v":0}]
[null,null,{"$f":"معرف!D21","v":"آدرس:"},{"$f":"معرف!E21","v":0}]
[]
[null,{"$f":"معرف!C23","v":"شماره تلفن:"},null,{"$f":"معرف!E23","v":0}]
[null,{"$f":"معرف!C24","v":"رابطه:"},null,{"$f":"معرف!E24","v":0}]
[null,{"$f":"معرف!C25","v":"تعداد سال‌‌ها:"},null,{"$f":"معرف!E25","v":0}]
[null,{"$f":"معرف!C28","v":"معرف 3"}]
[null,{"$f":"معرف!C29","v":"نام معرف:"},null,{"$f":"معرف!E29","v":0}]
[null,{"$f":"معرف!C30","v":"آدرس:"},{"$f":"معرف!D30","v":"استان:"},{"$f":"معرف!E30","v":0}]
[null,null,{"$f":"معرف!D31","v":"شهر:"},{"$f":"معرف!E31","v":0}]
[null,null,{"$f":"معرف!D32","v":"آدرس:"},{"$f":"معرف!E32","v":0}]
[]
[null,{"$f":"معرف!C34","v":"شماره تلفن:"},null,{"$f":"معرف!E34","v":0}]
[null,{"$f":"معرف!C35","v":"رابطه:"},null,{"$f":"معرف!E35","v":0}]
[null,{"$f":"معرف!C36","v":"تعداد سال‌‌ها:"},null,{"$f":"معرف!E36","v":0}]
[null,{"$f":"معرف!C39","v":"معرف4"}]
[null,{"$f":"معرف!C40","v":"نام معرف:"},null,{"$f":"معرف!E40","v":0}]
[null,{"$f":"معرف!C41","v":"آدرس:"},{"$f":"معرف!D41","v":"استان:"},{"$f":"معرف!E41","v":0}]
[null,null,{"$f":"معرف!D42","v":"شهر:"},{"$f":"معرف!E42","v":0}]
[null,null,{"$f":"معرف!D43","v":"آدرس:"},{"$f":"معرف!E43","v":0}]
[]
[null,{"$f":"معرف!C45","v":"شماره تلفن:"},null,{"$f":"معرف!E45","v":0}]
[null,{"$f":"معرف!C46","v":"رابطه:"},null,{"$f":"معرف!E46","v":0}]
[null,{"$f":"معرف!C47","v":"تعداد سال‌‌ها:"},null,{"$f":"معرف!E47","v":0}]

{"sheet":"Sheet1","index":9,"n_rows":341,"n_cols":10,"rows_kept":341,"cut":false,"hidden":true,"merged":[]}
["ID","Title",null,"ID","PK_Ostan","Title",null,"روز","ماه ","سال"]
[1,"آذربایجان‌شرقی",null,1,1,"آذرشهر",null,1,1,1300]
[2,"آذربایجان‌غربی",null,2,1,"اسکو",null,2,2,1301]
[3,"اردبیل",null,3,1,"اهر",null,3,3,1302]
[4,"اصفهان",null,4,1,"بستان‌آباد",null,4,4,1303]
[5,"ایلام",null,5,1,"بناب",null,5,5,1304]
[6,"بوشهر",null,6,1,"تبریز ",null,6,6,1305]
[7,"تهران",null,7,1,"جلفا",null,7,7,1306]
[8,"چهارمحال‌و‌بختیاری",null,8,1,"چاراویماق",null,8,8,1307]
[9,"خراسان‌جنوبی",null,9,1,"سراب",null,9,9,1308]
[10,"خراسان‌رضوی",null,10,1,"شبستر",null,10,10,1309]
[11,"خراسان‌شمالی",null,11,1,"عجب‌شیر",null,11,11,1310]
[12,"خوزستان",null,12,1,"کلیبر",null,12,12,1311]
[13,"زنجان",null,13,1,"مراغه",null,13,null,1312]
[14,"سمنان",null,14,1,"مرند",null,14,null,1313]
[15,"سیستان‌و‌بلوچستان",null,15,1,"ملکان",null,15,null,1314]
[16,"شيراز",null,16,1,"میانه",null,16,null,1315]
[17,"قزوین",null,17,1,"ورزقان",null,17,null,1316]
[18,"قم",null,18,1,"هریس",null,18,null,1317]
[19,"کردستان",null,19,1,"هشترود",null,19,null,1318]
[20,"کرمان",null,20,2,"ارومیه",null,20,null,1319]
[21,"کرمانشاه",null,21,2,"اشنویه",null,21,null,1320]
[22,"کهگیلویه‌و‌بویراحمد",null,22,2,"بوکان",null,22,null,1321]
[23,"گلستان",null,23,2,"پیرانشهر",null,23,null,1322]
[24,"گیلان",null,24,2,"تکاب",null,24,null,1323]
[25,"لرستان",null,25,2,"چالدران",null,25,null,1324]
[26,"مازندران",null,26,2,"خوی",null,26,null,1325]
[27,"مرکزی",null,27,2,"سردشت",null,27,null,1326]
[28,"هرمزگان",null,28,2,"سلماس",null,28,null,1327]
[29,"همدان",null,29,2,"شاهین‌دژ",null,29,null,1328]
[30,"یزد",null,30,2,"ماکو",null,30,null,1329]
[null,null,null,31,2,"مهاباد",null,31,null,1330]
[null,null,null,32,2,"میاندوآب",null,null,null,1331]
[null,null,null,33,2,"نقده",null,null,null,1332]
[null,null,null,34,3,"اردبیل",null,null,null,1333]
[null,null,null,35,3,"بیله‌سوار",null,null,null,1334]
[null,null,null,36,3,"پارس‌آباد",null,null,null,1335]
[null,null,null,37,3,"خلخال",null,null,null,1336]
[null,null,null,38,3,"کوثر ",null,null,null,1337]
[null,null,null,39,3,"گِرمی",null,null,null,1338]
[null,null,null,40,3,"مِشگین‌شهر",null,null,null,1339]
[null,null,null,41,3,"نَمین",null,null,null,1340]
[null,null,null,42,3,"نیر",null,null,null,1341]
[null,null,null,43,4,"آران و بیدگل",null,null,null,1342]
[null,null,null,44,4,"اردستان",null,null,null,1343]
[null,null,null,45,4,"اصفهان ",null,null,null,1344]
[null,null,null,46,4,"برخوار و میمه",null,null,null,1345]
[null,null,null,47,4,"تیران و کرون",null,null,null,1346]
[null,null,null,48,4,"چادگان",null,null,null,1347]
[null,null,null,49,4,"خمینی‌شهر",null,null,null,1348]
[null,null,null,50,4,"خوانسار",null,null,null,1349]
[null,null,null,51,4,"سمیرم",null,null,null,1350]
[null,null,null,52,4,"شهرضا",null,null,null,1351]
[null,null,null,53,4,"سمیرم سفلی",null,null,null,1352]
[null,null,null,54,4,"فریدن",null,null,null,1353]
[null,null,null,55,4,"فریدون‌شهر",null,null,null,1354]
[null,null,null,56,4,"فلاورجان",null,null,null,1355]
[null,null,null,57,4,"کاشان",null,null,null,1356]
[null,null,null,58,4,"گلپایگان",null,null,null,1357]
[null,null,null,59,4,"لنجان",null,null,null,1358]
[null,null,null,60,4,"مبارکه",null,null,null,1359]
[null,null,null,61,4,"نائین",null,null,null,1360]
[null,null,null,62,4,"نجف‌آباد ",null,null,null,1361]
[null,null,null,63,4,"نطنز",null,null,null,1362]
[null,null,null,64,5,"آبدانان",null,null,null,1363]
[null,null,null,65,5,"ایلام",null,null,null,1364]
[null,null,null,66,5,"ایوان",null,null,null,1365]
[null,null,null,67,5,"دره‌شهر",null,null,null,1366]
[null,null,null,68,5,"دهلران",null,null,null,1367]
[null,null,null,69,5,"شیروان و چرداول",null,null,null,1368]
[null,null,null,70,5,"مهران",null,null,null,1369]
[null,null,null,71,6,"بوشهر",null,null,null,1370]
[null,null,null,72,6,"تنگستان ",null,null,null,1371]
[null,null,null,73,6,"جم",null,null,null,1372]
[null,null,null,74,6,"دشتستان",null,null,null,1373]
[null,null,null,75,6,"دشتی",null,null,null,1374]
[null,null,null,76,6,"دیر",null,null,null,1375]
[null,null,null,77,6,"دیلم",null,null,null,1376]
[null,null,null,78,6,"کنگان ",null,null,null,1377]
[null,null,null,79,6,"گناوه",null,null,null,1378]
[null,null,null,80,7,"اسلام‌شهر",null,null,null,1379]
[null,null,null,81,7,"پاکدشت",null,null,null,1380]
[null,null,null,82,7,"تهران",null,null,null,1381]
[null,null,null,83,7,"دماوند",null,null,null,1382]
[null,null,null,84,7,"رباط‌کریم",null,null,null,1383]
[null,null,null,85,7,"ری",null,null,null,1384]
[null,null,null,86,7,"ساوجبلاغ",null,null,null,1385]
[null,null,null,87,7,"شمیرانات",null,null,null,1386]
[null,null,null,88,7,"شهریار",null,null,null,1387]
[null,null,null,89,7,"فیروزکوه",null,null,null,1388]
[null,null,null,90,7,"کرج ",null,null,null,1389]
[null,null,null,91,7,"نظرآباد",null,null,null,1390]
[null,null,null,92,7,"ورامین",null,null,null,1391]
[null,null,null,93,8,"اردل",null,null,null,1392]
[null,null,null,94,8,"بروجن",null,null,null,1393]
[null,null,null,95,8,"شهرکرد",null,null,null,1394]
[null,null,null,96,8,"فارسان",null,null,null,1395]
[null,null,null,97,8,"کوهرنگ",null,null,null,1396]
[null,null,null,98,8,"لردگان",null,null,null,1397]
[null,null,null,99,9,"بیرجند",null,null,null,1398]
[null,null,null,100,9,"درمیان",null,null,null,1399]
[null,null,null,101,9,"سرایان",null,null,null,1400]
[null,null,null,102,9,"سربیشه"]
[null,null,null,103,9,"فردوس"]
[null,null,null,104,9,"قائنات"]
[null,null,null,105,9,"نهبندان"]
[null,null,null,106,10,"بردسکن"]
[null,null,null,107,10,"تایباد"]
[null,null,null,108,10,"تربت جام"]
[null,null,null,109,10,"تربت حیدریه"]
[null,null,null,110,10,"چناران"]
[null,null,null,111,10,"خلیل‌آباد"]
[null,null,null,112,10,"خواف "]
[null,null,null,113,10,"درگز"]
[null,null,null,114,10,"رشتخوار"]
[null,null,null,115,10,"سبزوار "]
[null,null,null,116,10,"سرخس"]
[null,null,null,117,10,"فریمان"]
[null,null,null,118,10,"قوچان"]
[null,null,null,119,10,"کاشمر"]
[null,null,null,120,10,"کلات"]
[null,null,null,121,10,"گناباد"]
[null,null,null,122,10,"مشهد"]
[null,null,null,123,10,"مه ولات"]
[null,null,null,124,10,"نیشابور"]
[null,null,null,125,11,"اسفراین"]
[null,null,null,126,11,"بجنورد "]
[null,null,null,127,11,"جاجرم"]
[null,null,null,128,11,"شیروان"]
[null,null,null,129,11,"فاروج"]
[null,null,null,130,11,"مانه و سملقان"]
[null,null,null,131,12,"آبادان"]
[null,null,null,132,12,"امیدیه"]
[null,null,null,133,12,"اندیمشک"]
[null,null,null,134,12,"اهواز"]
[null,null,null,135,12,"ایذه"]
[null,null,null,136,12,"باغ‌ملک"]
[null,null,null,137,12,"بندر ماهشهر"]
[null,null,null,138,12,"بهبهان"]
[null,null,null,139,12,"خرمشهر"]
[null,null,null,140,12,"دزفول"]
[null,null,null,141,12,"دشت آزادگان"]
[null,null,null,142,12,"رامشیر"]
[null,null,null,143,12,"رامهرمز"]
[null,null,null,144,12,"شادگان"]
[null,null,null,145,12,"شوش"]
[null,null,null,146,12,"شوشتر"]
[null,null,null,147,12,"گتوند"]
[null,null,null,148,12,"لالی"]
[null,null,null,149,12,"مسجد سلیمان"]
[null,null,null,150,12,"هندیجان"]
[null,null,null,151,13,"ابهر"]
[null,null,null,152,13,"ایجرود"]
[null,null,null,153,13,"خدابنده"]
[null,null,null,154,13,"خرمدره"]
[null,null,null,155,13,"زنجان "]
[null,null,null,156,13,"طارم"]
[null,null,null,157,13,"ماه‌نشان"]
[null,null,null,158,14,"دامغان"]
[null,null,null,159,14,"سمنان"]
[null,null,null,160,14,"شاهرود"]
[null,null,null,161,14,"گرمسار"]
[null,null,null,162,14,"مهدی‌شهر"]
[null,null,null,163,15,"ایرانشهر "]
[null,null,null,164,15,"چابهار"]
[null,null,null,165,15,"خاش"]
[null,null,null,166,15,"دلگان"]
[null,null,null,167,15,"زابل"]
[null,null,null,168,15,"زاهدان"]
[null,null,null,169,15,"زهک"]
[null,null,null,170,15,"سراوان"]
[null,null,null,171,15,"سرباز"]
[null,null,null,172,15,"کنارک"]
[null,null,null,173,15,"نیک‌شهر"]
[null,null,null,174,16,"آباده "]
[null,null,null,175,16,"ارسنجان"]
[null,null,null,176,16,"استهبان "]
[null,null,null,177,16,"اقلید"]
[null,null,null,178,16,"بوانات"]
[null,null,null,179,16,"پاسارگاد"]
[null,null,null,180,16,"جهرم"]
[null,null,null,181,16,"خرم‌بید"]
[null,null,null,182,16,"خنج"]
[null,null,null,183,16,"داراب"]
[null,null,null,184,16,"زرین‌دشت"]
[null,null,null,185,16,"سپیدان"]
[null,null,null,186,16,"شیراز"]
[null,null,null,187,16,"فراشبند"]
[null,null,null,188,16,"فسا"]
[null,null,null,189,16,"فیروزآباد"]
[null,null,null,190,16,"قیر و کارزین"]
[null,null,null,191,16,"کازرون"]
[null,null,null,192,16,"لارستان"]
[null,null,null,193,16,"لامِرد"]
[null,null,null,194,16,"مرودشت "]
[null,null,null,195,16,"ممسنی"]
[null,null,null,196,16,"مهر"]
[null,null,null,197,16,"نی‌ریز"]
[null,null,null,198,17,"آبیک"]
[null,null,null,199,17,"البرز"]
[null,null,null,200,17,"بوئین‌زهرا"]
[null,null,null,201,17,"تاکستان"]
[null,null,null,202,17,"قزوین"]
[null,null,null,203,18,"قم"]
[null,null,null,204,19,"بانه "]
[null,null,null,205,19,"بیجار"]
[null,null,null,206,19,"دیواندره"]
[null,null,null,207,19,"سروآباد"]
[null,null,null,208,19,"سقز "]
[null,null,null,209,19,"سنندج"]
[null,null,null,210,19,"قروه"]
[null,null,null,211,19,"کامیاران"]
[null,null,null,212,19,"مریوان"]
[null,null,null,213,20,"بافت"]
[null,null,null,214,20,"بردسیر"]
[null,null,null,215,20,"بم"]
[null,null,null,216,20,"جیرفت"]
[null,null,null,217,20,"راور"]
[null,null,null,218,20,"رفسنجان"]
[null,null,null,219,20,"رودبار جنوب"]
[null,null,null,220,20,"زرند"]
[null,null,null,221,20,"سیرجان"]
[null,null,null,222,20,"شهر بابک"]
[null,null,null,223,20,"عنبرآباد"]
[null,null,null,224,20,"قلعه گنج "]
[null,null,null,225,20,"کرمان"]
[null,null,null,226,20,"کوهبنان"]
[null,null,null,227,20,"کهنوج"]
[null,null,null,228,20,"منوجان"]
[null,null,null,229,21,"اسلام‌آباد غرب"]
[null,null,null,230,21,"پاوه"]
[null,null,null,231,21,"ثلاث باباجانی"]
[null,null,null,232,21,"جوانرود"]
[null,null,null,233,21,"دالاهو"]
[null,null,null,234,21,"روانسر"]
[null,null,null,235,21,"سرپل ذهاب"]
[null,null,null,236,21,"سنقر"]
[null,null,null,237,21,"صحنه"]
[null,null,null,238,21,"قصر شیرین"]
[null,null,null,239,21,"کرمانشاه "]
[null,null,null,240,21,"کنگاور"]
[null,null,null,241,21,"گیلان غرب"]
[null,null,null,242,21,"هرسین"]
[null,null,null,243,22,"بویراحمد"]
[null,null,null,244,22,"بهمئی"]
[null,null,null,245,22,"دنا"]
[null,null,null,246,22,"کهگیلویه"]
[null,null,null,247,22,"گچساران"]
[null,null,null,248,23,"آزادشهر"]
[null,null,null,249,23,"آزادشهر"]
[null,null,null,250,23,"آق‌قلا"]
[null,null,null,251,23,"بندر گز"]
[null,null,null,252,23,"ترکمن "]
[null,null,null,253,23,"رامیان"]
[null,null,null,254,23,"علی‌آباد"]
[null,null,null,255,23,"کردکوی"]
[null,null,null,256,23,"کلاله"]
[null,null,null,257,23,"گرگان "]
[null,null,null,258,23,"گنبد کاووس"]
[null,null,null,259,23,"مراوه‌تپه"]
[null,null,null,260,23,"مینودشت"]
[null,null,null,261,24,"آستارا"]
[null,null,null,262,24,"آستانه اشرفیه"]
[null,null,null,263,24,"اَملَش"]
[null,null,null,264,24,"بندر انزلی"]
[null,null,null,265,24,"رشت"]
[null,null,null,266,24,"رضوانشهر"]
[null,null,null,267,24,"رودبار"]
[null,null,null,268,24,"رودسر"]
[null,null,null,269,24,"سیاهکل"]
[null,null,null,270,24,"شَفت"]
[null,null,null,271,24,"صومعه‌سرا"]
[null,null,null,272,24,"طوالش"]
[null,null,null,273,24,"فومَن"]
[null,null,null,274,24,"لاهیجان "]
[null,null,null,275,24,"لنگرود"]
[null,null,null,276,24,"ماسال"]
[null,null,null,277,25,"ازنا"]
[null,null,null,278,25,"اليگودرز"]
[null,null,null,279,25,"بروجرد"]
[null,null,null,280,25,"پل‌دختر"]
[null,null,null,281,25,"خرم‌آباد "]
[null,null,null,282,25,"دورود"]
[null,null,null,283,25,"دلفان "]
[null,null,null,284,25,"سلسله"]
[null,null,null,285,25,"کوهدشت"]
[null,null,null,290,26,"تنکابن"]
[null,null,null,291,26,"جويبار"]
[null,null,null,292,26,"چالوس"]
[null,null,null,293,26,"رامسر"]
[null,null,null,294,26,"ساري"]
[null,null,null,295,26,"سوادکوه "]
[null,null,null,296,26,"قائم‌شهر"]
[null,null,null,297,26,"گلوگاه"]
[null,null,null,298,26,"محمودآباد"]
[null,null,null,299,26,"نکا"]
[null,null,null,300,26,"نور"]
[null,null,null,301,26,"نوشهر"]
[null,null,null,286,26,"آمل"]
[null,null,null,287,26,"بابل"]
[null,null,null,288,26,"بابلسر"]
[null,null,null,289,26,"بهشهر"]
[null,null,null,302,27,"آشتيان"]
[null,null,null,303,27,"اراک"]
[null,null,null,304,27,"تفرش"]
[null,null,null,305,27,"خمين"]
[null,null,null,308,27,"ساوه"]
[null,null,null,309,27,"شازند"]
[null,null,null,310,27,"کميجان"]
[null,null,null,311,27,"محلات"]
[null,null,null,306,27,"دليجان "]
[null,null,null,307,27,"زرنديه"]
[null,null,null,312,28,"ابوموسي"]
[null,null,null,313,28,"بستک"]
[null,null,null,314,28,"بندر عباس"]
[null,null,null,315,28,"بندر لنگه"]
[null,null,null,316,28,"جاسک"]
[null,null,null,317,28,"حاجي‌آباد"]
[null,null,null,320,28,"قشم"]
[null,null,null,321,28,"گاوبندي"]
[null,null,null,322,28,"ميناب"]
[null,null,null,318,28,"خمير "]
[null,null,null,319,28,"رودان"]
[null,null,null,323,29,"اسدآباد"]
[null,null,null,324,29,"بهار"]
[null,null,null,325,29,"تويسرکان"]
[null,null,null,326,29,"رزن "]
[null,null,null,327,29,"کبودرآهنگ"]
[null,null,null,328,29,"ملاير"]
[null,null,null,329,29,"نهاوند"]
[null,null,null,330,29,"همدان"]
[null,null,null,331,30,"ابرکوه"]
[null,null,null,332,30,"اردکان"]
[null,null,null,333,30,"بافق "]
[null,null,null,334,30,"تفت"]
[null,null,null,335,30,"خاتم"]
[null,null,null,336,30,"صدوق"]
[null,null,null,337,30,"طبس"]
[null,null,null,338,30,"مهريز"]
[null,null,null,339,30,"مِيبُد"]
[null,null,null,340,30,"يزد"]